BEGIN:VCALENDAR
VERSION:2.0
CALSCALE:GREGORIAN
BEGIN:VEVENT
SUMMARY:Vinyasa Flow | Bea
DTSTART;TZID=Asia/Manila:20260514T090000
DTEND;TZID=Asia/Manila:20260514T100000
LOCATION:Little Shell Yoga Shala, Malinao
DESCRIPTION: Vinyasa Flow is a dynamic style of yoga asana that harmonizes movement with breath, creating a smooth and energizing flow between poses. 

This class is open level and welcomes beginning practitioners as well as intermediate practitioners.
STATUS:CONFIRMED
SEQUENCE:0
END:VEVENT
END:VCALENDAR