BEGIN:VCALENDAR
VERSION:2.0
CALSCALE:GREGORIAN
BEGIN:VEVENT
SUMMARY:Community Kirtan | Beng
DTSTART;TZID=Asia/Manila:20260329T180000
DTEND;TZID=Asia/Manila:20260329T190000
LOCATION:Little Shell Yoga Shala, Malinao
DESCRIPTION: 
STATUS:CONFIRMED
SEQUENCE:0
END:VEVENT
END:VCALENDAR