BEGIN:VCALENDAR
VERSION:2.0
CALSCALE:GREGORIAN
BEGIN:VEVENT
SUMMARY:Yoga vinyasa, yoga détente, yoga nidra
DTSTART;TZID=Europe/Paris:20221204T113000
DTEND;TZID=Europe/Paris:20221204T124500
LOCATION:Studio Ligner
DESCRIPTION: Une première partie de cours rythmée par une pratique dynamique où l&#039;enchaînement des postures suit le rythme de la respiration (45 min).

S&#039;en suit une pratique pour se relaxer, s&#039;étirer en douceur (15 min).

La séance se termine par un yoga Nidra, à la fois une pratique de méditation et un état méditatif. Avec un guidage verbal, l’objectif est de rester éveillé tout en étant extrêmement proche de la limite du sommeil (15 min)
STATUS:CONFIRMED
SEQUENCE:0
END:VEVENT
END:VCALENDAR