BEGIN:VCALENDAR
VERSION:2.0
CALSCALE:GREGORIAN
BEGIN:VEVENT
SUMMARY:!! HIGH INTENSITY SPINNING!!
DTSTART;TZID=Africa/Lagos:20260124T110000
DTEND;TZID=Africa/Lagos:20260124T115000
LOCATION:
DESCRIPTION: Start your weekend strong with a high-energy ride full of sprints, climbs, and killer beats. Expect sweat, speed, and serious feel-good vibes!
STATUS:CONFIRMED
SEQUENCE:0
END:VEVENT
END:VCALENDAR