BEGIN:VCALENDAR
VERSION:2.0
CALSCALE:GREGORIAN
BEGIN:VEVENT
SUMMARY:KICK BOXING
DTSTART;TZID=Africa/Lagos:20260416T190000
DTEND;TZID=Africa/Lagos:20260416T195000
LOCATION:
DESCRIPTION: High intensity interval training class based on boxing training. 
*Gloves and Sneakers needed*
STATUS:CONFIRMED
SEQUENCE:0
END:VEVENT
END:VCALENDAR