BEGIN:VCALENDAR
VERSION:2.0
CALSCALE:GREGORIAN
BEGIN:VEVENT
SUMMARY:MIT (FAT BURNING)
DTSTART;TZID=Africa/Lagos:20260420T080000
DTEND;TZID=Africa/Lagos:20260420T085000
LOCATION:
DESCRIPTION: Matebolic Interval Training _ High-energy workout alternating strength and cardio intervals to boost metabolism, burn calories, and build endurance. Suitable for beginners, with options to progress at your own pace.
STATUS:CONFIRMED
SEQUENCE:0
END:VEVENT
END:VCALENDAR