BEGIN:VCALENDAR
VERSION:2.0
CALSCALE:GREGORIAN
BEGIN:VEVENT
SUMMARY:PILATES MAT intermediate
DTSTART;TZID=Africa/Lagos:20260422T080000
DTEND;TZID=Africa/Lagos:20260422T085000
LOCATION:
DESCRIPTION: Pilates mat class, suitable for clients that have done at least 3/4 Pilates mat intro or reformer Pilates intro.
STATUS:CONFIRMED
SEQUENCE:0
END:VEVENT
END:VCALENDAR