BEGIN:VCALENDAR
VERSION:2.0
CALSCALE:GREGORIAN
BEGIN:VEVENT
SUMMARY:POWER PUMP
DTSTART;TZID=Africa/Lagos:20260423T080000
DTEND;TZID=Africa/Lagos:20260423T085000
LOCATION:
DESCRIPTION: this class uses weights, focused on slow controlled movements that will help you toning core, legs, glutes, arms and at the same time burn calories
STATUS:CONFIRMED
SEQUENCE:0
END:VEVENT
END:VCALENDAR