BEGIN:VCALENDAR
VERSION:2.0
CALSCALE:GREGORIAN
BEGIN:VEVENT
SUMMARY:START UP RIDE (Spinning)
DTSTART;TZID=Africa/Lagos:20260424T090000
DTEND;TZID=Africa/Lagos:20260424T095000
LOCATION:
DESCRIPTION: Beginner-friendly and confidence-building. Learn bike setup, rhythm, and basic resistance in a fun, supportive environment—while still burning calories and working up a good sweat.
STATUS:CONFIRMED
SEQUENCE:0
END:VEVENT
END:VCALENDAR