BEGIN:VCALENDAR
VERSION:2.0
CALSCALE:GREGORIAN
BEGIN:VEVENT
SUMMARY:Olamide Kuti (Private Reformer) up to 6 people with Praise
DTSTART;TZID=Africa/Lagos:20260303T160000
DTEND;TZID=Africa/Lagos:20260303T165000
LOCATION:
DESCRIPTION: 
STATUS:CONFIRMED
SEQUENCE:0
END:VEVENT
END:VCALENDAR