BEGIN:VCALENDAR
VERSION:2.0
CALSCALE:GREGORIAN
BEGIN:VEVENT
SUMMARY:Pilates Yoga (60 min)
DTSTART;TZID=Europe/Amsterdam:20241216T194500
DTEND;TZID=Europe/Amsterdam:20241216T204500
LOCATION:Hey Mama Lou
DESCRIPTION: Deze signature les is een fusion les en biedt spierversterkende pilates oefeningen onder fijne beats in combinatie met kundalini yoga, flow, yin en ontspanning. Jouw kracht en zen moment in één waarbij je elke week weer voelt hoe belangrijk het is om even met jezelf in te checken en naar je lichaam te luisteren
STATUS:CONFIRMED
SEQUENCE:0
END:VEVENT
END:VCALENDAR