BEGIN:VCALENDAR
VERSION:2.0
CALSCALE:GREGORIAN
BEGIN:VEVENT
SUMMARY:Mama &amp; Mini (45 min) 0 tm 5!
DTSTART;TZID=Europe/Amsterdam:20240823T110000
DTEND;TZID=Europe/Amsterdam:20240823T114500
LOCATION:
DESCRIPTION: Vandaag wordt deze les gegeven door Leila Cleassen! 

Een heerlijke les als je op zoek bent naar een fijne verbindende activiteit met je kindje. Deze les is voor een wijde leeftijdsrange en dat maakt het altijd verrassend ;)  We omarmen de chaos dus maak je geen zorgen, troosten, huilen, voeden, wiegen: alles kan en mag! Neem alles mee wat je normaal meebrengt voor je kleintje. Draagzak, wipstoel mogen ook!

Op 16, 23, 30 aug en 6 sept 2024 geeft Leila Cleassen deze les.
STATUS:CONFIRMED
SEQUENCE:0
END:VEVENT
END:VCALENDAR