BEGIN:VCALENDAR
VERSION:2.0
CALSCALE:GREGORIAN
BEGIN:VEVENT
SUMMARY:Mini Body &amp; Soul Massage (25 min)
DTSTART;TZID=Europe/Amsterdam:20241004T113000
DTEND;TZID=Europe/Amsterdam:20241004T120000
LOCATION:
DESCRIPTION: Kom een heerlijke, relaxte (maar kan ook stevigere) mini massage ervaren. Lotte deed een ayurvedische massage cursus in India maar gebruikt ook technieken uit reiki, deep tissue, romatherapy en haar lifestyle coach opleiding. Momenteel volgt ze een opleiding tot Cranio Sacraal Therapeut. Haar sessies zijn normaal gesproken te boeken vanaf 90 minuten voor 118 euro maar hier krijg je de kans om een mini versie te beleven. Kosten zijn 33 euro voor 25 minuten. Bij prijsoptie kies je voor de optie Mini Massage om deze behandeling te kunnen betalen.
STATUS:CONFIRMED
SEQUENCE:0
END:VEVENT
END:VCALENDAR