BEGIN:VCALENDAR
VERSION:2.0
CALSCALE:GREGORIAN
BEGIN:VEVENT
SUMMARY:Kundalini Yoga (30 min)
DTSTART;TZID=Europe/Amsterdam:20241003T092500
DTEND;TZID=Europe/Amsterdam:20241003T095500
LOCATION:Hey Mama Lou
DESCRIPTION: Kundalini Yoga is een bewustzijnsverruimende yogastijl die dicht bij mijn hart licht. Als geen andere stijl daagt deze practice je metaal en fysiek uit. Fantastisch als je introspectie waardeert want je komt jezelf tegen op manieren die je soms overdonderen. Maar hard werk wordt beloond want je verlaat de mat eigenlijk altijd gecentreerd en met een gevoel van kracht (en meestal ook een nieuw inzicht.) Try it out! Sat Nam. (Geschikt voor fitte zwangeren tot ongeveer 32 weken.)
STATUS:CONFIRMED
SEQUENCE:0
END:VEVENT
END:VCALENDAR