BEGIN:VCALENDAR
VERSION:2.0
CALSCALE:GREGORIAN
BEGIN:VEVENT
SUMMARY:Power &amp; Yin  (60 min) met Charlot
DTSTART;TZID=Europe/Amsterdam:20250411T083500
DTEND;TZID=Europe/Amsterdam:20250411T093500
LOCATION:Hey Mama Lou
DESCRIPTION: Met deze fijne Yin Yang les begin jij je dag in harmonie met jezelf! Afstemmen op je eigen energie en contact maken met je kracht. Move your body en centreer je mind onder de warme begeleiding van Charlotte. Daar heb je de rest van de dag wat aan.
STATUS:CONFIRMED
SEQUENCE:0
END:VEVENT
END:VCALENDAR