BEGIN:VCALENDAR
VERSION:2.0
CALSCALE:GREGORIAN
BEGIN:VEVENT
SUMMARY:SOL Breathworkshop (70 min) Verbonden Adem.
DTSTART;TZID=Europe/Amsterdam:20250119T093000
DTEND;TZID=Europe/Amsterdam:20250119T104000
LOCATION:Hey Mama Lou
DESCRIPTION: Vandaag is je kans om de eerste verbonden adem sessie bij Lots Yoga mee te maken. 

Laat je meenemen op een reis naar binnen toe door middel van zacht ademwerk onder begeleiding van ademcoach en pranayama teacher Judith Sol. Werk langzaam door lagen van spanning heen en kom een stapje dichter bij je ware zelf. Judith creëert met haar warme en vriendelijke houding al snel een veilige plek waar jij alles even helemaal toe mag laten. Voel je welkom en laat je verwonderen door je eigen kracht. Deze sessie brengt veel in beweging en zorgt voor meer lichaamsbewustzijn en herstel van je zenuwstelsel. 

Voor deze sessie betaal je met een strip van je kaart of je koopt een losse les a 22,-

Let op: dit event kun je tot 48 uur van tevoren gratis annuleren,.
STATUS:CONFIRMED
SEQUENCE:0
END:VEVENT
END:VCALENDAR