BEGIN:VCALENDAR
VERSION:2.0
CALSCALE:GREGORIAN
BEGIN:VEVENT
SUMMARY:Ouder &amp; Kind Pyjama Party  (1 tm 7 jaar)
DTSTART;TZID=Europe/Amsterdam:20241222T093000
DTEND;TZID=Europe/Amsterdam:20241222T101500
LOCATION:Hey Mama Lou
DESCRIPTION: Een super feestelijke ochtend gevuld met dansen, yoga, muziek, acrobatiek en gezelligheid! Trek je pyjama of foute kerst trui aan. We komen lekker in beweging, zakken in ons lijf en maken er sluiten af met pannenkoeken en ander lekkers.
STATUS:CONFIRMED
SEQUENCE:0
END:VEVENT
END:VCALENDAR