BEGIN:VCALENDAR
VERSION:2.0
CALSCALE:GREGORIAN
BEGIN:VEVENT
SUMMARY:Ouder &amp; Kind Pyjama Party  (1 tm 7 jaar)
DTSTART;TZID=Europe/Amsterdam:20250202T094500
DTEND;TZID=Europe/Amsterdam:20250202T103000
LOCATION:Hey Mama Lou
DESCRIPTION: Een feestelijke ochtend gevuld met dans, yoga, muziek, acrobatiek en gezelligheid! Trek je pyjama of chill pak aan, we komen lekker in beweging, zakken in ons lijf en maken er een dolle boel van met een momentje van ontspanning op het eind. We sluiten af met pannenkoeken en meer lekkers.
STATUS:CONFIRMED
SEQUENCE:0
END:VEVENT
END:VCALENDAR