BEGIN:VCALENDAR
VERSION:2.0
CALSCALE:GREGORIAN
BEGIN:VEVENT
SUMMARY:Deep Relax met Magic Touch (90 min) Leonie
DTSTART;TZID=Europe/Amsterdam:20260301T093000
DTEND;TZID=Europe/Amsterdam:20260301T110000
LOCATION:Hey Mama Lou
DESCRIPTION: Een les die volledig is ingericht op het tot rust laten komen van je zenuwstelsel. Yin oefeningen, mooie meditaties, zachte reiki aanrakingen en muziek. 

Dit is bovendien een geweldige les om cadeau te geven aan een vriendin die toe is aan een extra portie ontspanning en (zelf) liefde. 

Neem een notitieboekje en pen mee om inzichten die je ervaart op te schrijven.

Voor deze XL special betaal je met een losse les van 35,- of 2 strippen van je abonnement of rittenkaart.
Let op: Kosteloos annuleren kan tot 48 uur van tevoren!
STATUS:CONFIRMED
SEQUENCE:0
END:VEVENT
END:VCALENDAR