BEGIN:VCALENDAR
VERSION:2.0
CALSCALE:GREGORIAN
BEGIN:VEVENT
SUMMARY:Yin Yoga
DTSTART;TZID=Europe/Amsterdam:20260331T203000
DTEND;TZID=Europe/Amsterdam:20260331T213000
LOCATION:Lotus Art Studio
DESCRIPTION: Handdoek verplicht!!

Dit is een rustige les waar de houdingen langer aangehouden worden (+/- 3 min) zodat je tijd krijgt om in te werken op de diepere lagen van de weefsels. Dit zijn de (Yinne) weke delen van ons lijf; ligamenten, gewrichten, bindweefsel, botten en bloed. 
Deze vorm van Yoga is een tegenhanger van Yang Yoga waar er juist meer met de spieren gewerkt wordt. Yin en Yang houden elkaar in balans.
STATUS:CONFIRMED
SEQUENCE:0
END:VEVENT
END:VCALENDAR