BEGIN:VCALENDAR
VERSION:2.0
CALSCALE:GREGORIAN
BEGIN:VEVENT
SUMMARY:Gentle Yoga - FVI
DTSTART;TZID=Asia/Singapore:20211129T073000
DTEND;TZID=Asia/Singapore:20211129T081500
LOCATION:Studio
DESCRIPTION: Note: This is a 45-minute class
Fully Vaccinated Individuals Only with Mask-Off Option
STATUS:CONFIRMED
SEQUENCE:0
END:VEVENT
END:VCALENDAR