BEGIN:VCALENDAR
VERSION:2.0
CALSCALE:GREGORIAN
BEGIN:VEVENT
SUMMARY:Neck. Shoulder. Spine
DTSTART;TZID=Asia/Singapore:20211115T191500
DTEND;TZID=Asia/Singapore:20211115T200000
LOCATION:Studio
DESCRIPTION: Note: This is a 45-minute class.
Mask on.
Mask off option only if all participants are FVIs.
STATUS:CONFIRMED
SEQUENCE:0
END:VEVENT
END:VCALENDAR