BEGIN:VCALENDAR
VERSION:2.0
CALSCALE:GREGORIAN
BEGIN:VEVENT
SUMMARY:Private Class
DTSTART;TZID=Asia/Singapore:20220313T150000
DTEND;TZID=Asia/Singapore:20220313T165500
LOCATION:Studio
DESCRIPTION: Joye
STATUS:CONFIRMED
SEQUENCE:0
END:VEVENT
END:VCALENDAR