BEGIN:VCALENDAR
VERSION:2.0
CALSCALE:GREGORIAN
BEGIN:VEVENT
SUMMARY:Neck &amp; Spine
DTSTART;TZID=Asia/Singapore:20220606T170000
DTEND;TZID=Asia/Singapore:20220606T180000
LOCATION:Studio
DESCRIPTION: 
STATUS:CONFIRMED
SEQUENCE:0
END:VEVENT
END:VCALENDAR