BEGIN:VCALENDAR
VERSION:2.0
CALSCALE:GREGORIAN
BEGIN:VEVENT
SUMMARY:Yin Yoga &amp; Myofascial Release
DTSTART;TZID=Asia/Singapore:20220824T090000
DTEND;TZID=Asia/Singapore:20220824T100000
LOCATION:Location
DESCRIPTION: **Fascia/ Massage Ball Required**
STATUS:CONFIRMED
SEQUENCE:0
END:VEVENT
END:VCALENDAR