BEGIN:VCALENDAR
VERSION:2.0
CALSCALE:GREGORIAN
BEGIN:VEVENT
SUMMARY:Wheel Yoga
DTSTART;TZID=Asia/Singapore:20220814T171500
DTEND;TZID=Asia/Singapore:20220814T180000
LOCATION:Location
DESCRIPTION: *This is a 45-min class*
STATUS:CONFIRMED
SEQUENCE:0
END:VEVENT
END:VCALENDAR