BEGIN:VCALENDAR
VERSION:2.0
CALSCALE:GREGORIAN
BEGIN:VEVENT
SUMMARY:Yin Yoga
DTSTART;TZID=Asia/Singapore:20220831T191500
DTEND;TZID=Asia/Singapore:20220831T200000
LOCATION:Location
DESCRIPTION: *This is a 45-min class*
STATUS:CONFIRMED
SEQUENCE:0
END:VEVENT
END:VCALENDAR