BEGIN:VCALENDAR
VERSION:2.0
CALSCALE:GREGORIAN
BEGIN:VEVENT
SUMMARY:CAY Beginners Dutch
DTSTART;TZID=Europe/Amsterdam:20260420T193000
DTEND;TZID=Europe/Amsterdam:20260420T204500
LOCATION:Phoenixstraat 66, Delft
DESCRIPTION: 75 minuten CAY les. We nemen de tijd om te ontspannen met de tools. Daarna doen we kracht en flexibiliteit oefeningen. Beginners les
STATUS:CONFIRMED
SEQUENCE:0
END:VEVENT
END:VCALENDAR