BEGIN:VCALENDAR
VERSION:2.0
CALSCALE:GREGORIAN
BEGIN:VEVENT
SUMMARY:Gentle Reformer Class
DTSTART;TZID=Europe/Madrid:20220210T111500
DTEND;TZID=Europe/Madrid:20220210T121500
LOCATION:Ibiza Studio
DESCRIPTION: A class suitable for all levels but especially appropriate for beginners and those with particular physical issues, or for those coming back to pilates after a break for which a slower pace is more suitable.
STATUS:CONFIRMED
SEQUENCE:0
END:VEVENT
END:VCALENDAR