BEGIN:VCALENDAR
VERSION:2.0
CALSCALE:GREGORIAN
BEGIN:VEVENT
SUMMARY:Group Jumpboard
DTSTART;TZID=Europe/Madrid:20220714T100000
DTEND;TZID=Europe/Madrid:20220714T110000
LOCATION:Ibiza Studio
DESCRIPTION: Using the jump board to add a cardio element to your weekly pilates practice.  Better to have taken a few regular pilates classes before joining this one.
STATUS:CONFIRMED
SEQUENCE:0
END:VEVENT
END:VCALENDAR