BEGIN:VCALENDAR
VERSION:2.0
CALSCALE:GREGORIAN
BEGIN:VEVENT
SUMMARY:Easy Flow
DTSTART;TZID=America/Edmonton:20260511T173000
DTEND;TZID=America/Edmonton:20260511T183000
LOCATION:Studio
DESCRIPTION: A gentle but dynamic yoga flow class for those who want to inject energy and challenge into their practice. This class adds some strength and power that will leave you buzzing with endorphins. Suitable for all levels.
STATUS:CONFIRMED
SEQUENCE:0
END:VEVENT
END:VCALENDAR