BEGIN:VCALENDAR
VERSION:2.0
CALSCALE:GREGORIAN
BEGIN:VEVENT
SUMMARY:KH葵興 - Wheel 瑜伽輪 (TING)
DTSTART;TZID=Asia/Hong_Kong:20210928T200000
DTEND;TZID=Asia/Hong_Kong:20210928T210000
LOCATION:KWAI HING 葵興安達工業大廈8樓B03室
DESCRIPTION: 
STATUS:CONFIRMED
SEQUENCE:0
END:VEVENT
END:VCALENDAR