BEGIN:VCALENDAR
VERSION:2.0
CALSCALE:GREGORIAN
BEGIN:VEVENT
SUMMARY:KH葵興 - Hoop Flow 空中呼拉圈串連(Ling)
DTSTART;TZID=Asia/Hong_Kong:20210531T211500
DTEND;TZID=Asia/Hong_Kong:20210531T221500
LOCATION:KWAI HING
DESCRIPTION: 
STATUS:CONFIRMED
SEQUENCE:0
END:VEVENT
END:VCALENDAR