BEGIN:VCALENDAR
VERSION:2.0
CALSCALE:GREGORIAN
BEGIN:VEVENT
SUMMARY:KH葵興 - Hammock Flow 空中串連 (Ann)
DTSTART;TZID=Asia/Hong_Kong:20210605T161500
DTEND;TZID=Asia/Hong_Kong:20210605T171500
LOCATION:KWAI HING
DESCRIPTION: 
STATUS:CONFIRMED
SEQUENCE:0
END:VEVENT
END:VCALENDAR