BEGIN:VCALENDAR
VERSION:2.0
CALSCALE:GREGORIAN
BEGIN:VEVENT
SUMMARY:葵興KH - Backbend 後彎開胸伸展 (Ling)
DTSTART;TZID=Asia/Hong_Kong:20210703T164500
DTEND;TZID=Asia/Hong_Kong:20210703T174500
LOCATION:KWAI HING
DESCRIPTION: 
STATUS:CONFIRMED
SEQUENCE:0
END:VEVENT
END:VCALENDAR