BEGIN:VCALENDAR
VERSION:2.0
CALSCALE:GREGORIAN
BEGIN:VEVENT
SUMMARY:KH葵興 - Rent
DTSTART;TZID=Asia/Hong_Kong:20210618T213000
DTEND;TZID=Asia/Hong_Kong:20210618T223000
LOCATION:葵興安達工業大廈8樓03
DESCRIPTION: 
STATUS:CONFIRMED
SEQUENCE:0
END:VEVENT
END:VCALENDAR