BEGIN:VCALENDAR
VERSION:2.0
CALSCALE:GREGORIAN
BEGIN:VEVENT
SUMMARY:葵興KH - Hammock Tricks 空中瑜伽 (Ruby)
DTSTART;TZID=Asia/Hong_Kong:20210720T111000
DTEND;TZID=Asia/Hong_Kong:20210720T121000
LOCATION:葵興安達工業大廈8樓
DESCRIPTION: 
STATUS:CONFIRMED
SEQUENCE:0
END:VEVENT
END:VCALENDAR