BEGIN:VCALENDAR
VERSION:2.0
CALSCALE:GREGORIAN
BEGIN:VEVENT
SUMMARY:葵興KH - Hammock Flow (改為Chocolate)
DTSTART;TZID=Asia/Hong_Kong:20210723T200000
DTEND;TZID=Asia/Hong_Kong:20210723T210000
LOCATION:葵興安達工業大廈8樓B03室
DESCRIPTION: 
STATUS:CONFIRMED
SEQUENCE:0
END:VEVENT
END:VCALENDAR