BEGIN:VCALENDAR
VERSION:2.0
CALSCALE:GREGORIAN
BEGIN:VEVENT
SUMMARY:20:00-22:00 TM屯門 - Rent
DTSTART;TZID=Asia/Hong_Kong:20210717T200000
DTEND;TZID=Asia/Hong_Kong:20210717T220000
LOCATION:屯門好收成工業大廈11樓/葵興安達工業大廈8樓
DESCRIPTION: 
STATUS:CONFIRMED
SEQUENCE:0
END:VEVENT
END:VCALENDAR