BEGIN:VCALENDAR
VERSION:2.0
CALSCALE:GREGORIAN
BEGIN:VEVENT
SUMMARY:KT觀塘 - Hatha 哈達瑜伽 (Allison)
DTSTART;TZID=Asia/Hong_Kong:20210828T100000
DTEND;TZID=Asia/Hong_Kong:20210828T110000
LOCATION:觀塘創業街36號華基中心13樓
DESCRIPTION: 
STATUS:CONFIRMED
SEQUENCE:0
END:VEVENT
END:VCALENDAR