BEGIN:VCALENDAR
VERSION:2.0
CALSCALE:GREGORIAN
BEGIN:VEVENT
SUMMARY:12:00-14:00 TM屯門 - Rent
DTSTART;TZID=Asia/Hong_Kong:20210815T120000
DTEND;TZID=Asia/Hong_Kong:20210815T140000
LOCATION:屯門好收成工業大廈11樓7B室
DESCRIPTION: 
STATUS:CONFIRMED
SEQUENCE:0
END:VEVENT
END:VCALENDAR