BEGIN:VCALENDAR
VERSION:2.0
CALSCALE:GREGORIAN
BEGIN:VEVENT
SUMMARY:10:30-12:00 KH葵興 - Rent
DTSTART;TZID=Asia/Hong_Kong:20210731T103000
DTEND;TZID=Asia/Hong_Kong:20210731T120000
LOCATION:葵興安達工業大廈8樓B03室
DESCRIPTION: 
STATUS:CONFIRMED
SEQUENCE:0
END:VEVENT
END:VCALENDAR