BEGIN:VCALENDAR
VERSION:2.0
CALSCALE:GREGORIAN
BEGIN:VEVENT
SUMMARY:8:45-9:45 TM屯門 - Rent
DTSTART;TZID=Asia/Hong_Kong:20210813T084500
DTEND;TZID=Asia/Hong_Kong:20210813T094500
LOCATION:屯門好收成工業大廈11樓7B室
DESCRIPTION: 
STATUS:CONFIRMED
SEQUENCE:0
END:VEVENT
END:VCALENDAR