BEGIN:VCALENDAR
VERSION:2.0
CALSCALE:GREGORIAN
BEGIN:VEVENT
SUMMARY:KH葵興 - Hammock Tricks 空中瑜伽
DTSTART;TZID=Asia/Hong_Kong:20210829T164500
DTEND;TZID=Asia/Hong_Kong:20210829T174500
LOCATION:葵興安達工業大廈8樓B03室
DESCRIPTION: 
STATUS:CONFIRMED
SEQUENCE:0
END:VEVENT
END:VCALENDAR