BEGIN:VCALENDAR
VERSION:2.0
CALSCALE:GREGORIAN
BEGIN:VEVENT
SUMMARY:KH葵興(新班) Hoop 空中呼拉圈(超級BB班) Ting
DTSTART;TZID=Asia/Hong_Kong:20211012T170000
DTEND;TZID=Asia/Hong_Kong:20211012T180000
LOCATION:葵興安達工業大廈8樓B03室
DESCRIPTION: 
STATUS:CONFIRMED
SEQUENCE:0
END:VEVENT
END:VCALENDAR