BEGIN:VCALENDAR
VERSION:2.0
CALSCALE:GREGORIAN
BEGIN:VEVENT
SUMMARY:TM屯門 - Hoop Tricks 空中呼拉圈 (Ann)
DTSTART;TZID=Asia/Hong_Kong:20210602T211000
DTEND;TZID=Asia/Hong_Kong:20210602T221000
LOCATION:TUEN MUN
DESCRIPTION: Hoop Tricks (Ann)：
- 每堂學習不同動作，按同學能力教授基礎至進階動作，如上圈技巧及安全知識。

注意： 1.購買後2星期內需要完成第一堂 2.套票生效期由第一堂開始計算 3.所有課堂3人成班，如人數不足則會取消該課堂，不扣除Credits。  4.請假需於上課24小時前通知，如不足24小時會被扣除Credits。
STATUS:CONFIRMED
SEQUENCE:0
END:VEVENT
END:VCALENDAR