BEGIN:VCALENDAR
VERSION:2.0
CALSCALE:GREGORIAN
BEGIN:VEVENT
SUMMARY:TM屯門 - 空中絲帶 Aerial Silks (Vivan) (Package扣2堂)
DTSTART;TZID=Asia/Hong_Kong:20210608T200000
DTEND;TZID=Asia/Hong_Kong:20210608T210000
LOCATION:TUEN MUN
DESCRIPTION: 空中絲帶 Aerial Silks：
是運用兩條垂直的絹布，利用攀爬，打結及綁繩等技巧在空中固定、支撐身體和表演優美動作。

留意返Package 扣2堂
STATUS:CONFIRMED
SEQUENCE:0
END:VEVENT
END:VCALENDAR