BEGIN:VCALENDAR
VERSION:2.0
CALSCALE:GREGORIAN
BEGIN:VEVENT
SUMMARY:Gentle Candlelight Movement &amp; Meditation
DTSTART;TZID=America/Chicago:20211124T190000
DTEND;TZID=America/Chicago:20211124T201500
LOCATION:Lucent Yoga
DESCRIPTION: On the eve of Thanksgiving Day, settle in and restore with a 75 minute gentle yoga flow that will reset your mind &amp;amp; body.  Our practice will conclude with an extra long savasana &amp;amp; gratitude meditation.
STATUS:CONFIRMED
SEQUENCE:0
END:VEVENT
END:VCALENDAR