BEGIN:VCALENDAR
VERSION:2.0
CALSCALE:GREGORIAN
BEGIN:VEVENT
SUMMARY:Online Vinyasa
DTSTART;TZID=America/Chicago:20220108T090000
DTEND;TZID=America/Chicago:20220108T100000
LOCATION:Lucent Yoga
DESCRIPTION: If you want to join Live class via Zoom, sign up for this class to receive link approximately 30 minutes before class starts.
STATUS:CONFIRMED
SEQUENCE:0
END:VEVENT
END:VCALENDAR