BEGIN:VCALENDAR
VERSION:2.0
CALSCALE:GREGORIAN
BEGIN:VEVENT
SUMMARY:Vinyasa Yoga (Bridget Sub)
DTSTART;TZID=America/Chicago:20220607T174500
DTEND;TZID=America/Chicago:20220607T184500
LOCATION:Lucent Yoga
DESCRIPTION: Flow threw a yoga vinyasa getting a workout for your entire body &amp;amp; mind. (Bridget subbing -Ronda’s new class starts next week!  Be sure to check it out-Zone 26!!!
STATUS:CONFIRMED
SEQUENCE:0
END:VEVENT
END:VCALENDAR